BEGIN:VCALENDAR
VERSION:2.0
PRODID:-//ChamberMaster//Event Calendar 2.0//EN
METHOD:PUBLISH
X-PUBLISHED-TTL:P1H
REFRESH-INTERVAL:P1H
CALSCALE:GREGORIAN
BEGIN:VTIMEZONE
TZID:America/Chicago
BEGIN:DAYLIGHT
RRULE:FREQ=YEARLY;BYMONTH=3;BYDAY=2SU
DTSTART:20070101T000000
TZOFFSETFROM:-0600
TZOFFSETTO:-0500
TZNAME:Central Daylight Time
END:DAYLIGHT
BEGIN:STANDARD
RRULE:FREQ=YEARLY;BYMONTH=11;BYDAY=1SU
DTSTART:20070101T000000
TZOFFSETFROM:-0500
TZOFFSETTO:-0600
TZNAME:Central Standard Time
END:STANDARD
END:VTIMEZONE
BEGIN:VEVENT
DTSTART;TZID=America/Chicago:20221027T090000
DTEND;TZID=America/Chicago:20221027T153000
X-MICROSOFT-CDO-ALLDAYEVENT:FALSE
SUMMARY:National ABEN DAY!
DESCRIPTION:Big I Oklahoma has partnered up with ABEN to offer up to 5 hours of FREE CE for BIGiOK Members! (Please Note: This is only CE Approved in Oklahoma)Non-Members can attend for $150. The theme of this year's event is - Navigating the New and Non-Traditional Workplace.  There are so many facets to that broad subject!  With what all agents/and agencies have been through in the last few years\, we all need to pivot to learn new ways to communicate and navigate.  Here are a few touch points from the classes that are part of National ABEN Day - 2022:Gigs and Side Hustles  - The Insurance Issues - 2 Hrs - Rick PittsThis seminar provides a fast-paced look at the personal and commercial lines insurance issues that have been created in the gig economy and its new players\; Uber\, Touro\, Hertz\, Avis\, Airbonb and VRBO.  The insurance ramifications are discussed.  Next\, there will be an examination of the particulars with regard to both the personal auto policy form and homeowners form. Rick addresses the issues connected to the gig economy from the perspective of an employer in a more traditional business model. Simply put\, can gig workers be held to be employees\, despite the efforts of employers to treat them as temporary workers and therefore independent contractors? This section examines some case law and also some employment law developments that may influence the question not only from the perspective of the commercial liability policy\, but more particularly the workers compensation laws. Lastly\, a hypothetical question is discussed about whether a restaurant\, or an app such as Door Dash\, can or should be held liable when a driver has an accident while delivering food  The restaurant's needs\, driver needs and underlying liability issues are discussed.15 min breakHow to Thrive in a Ever Changing Work Environment - 1 hr - Terry TadlockThis seminar will address the positive effects that Organizational Culture can have on your agency.  While many E&O classes focus on mistakes employees can make that create potential problems\, this course will attempt to create an awareness that there are steps we can take as an organization in creating a positive agency culture\, that can eliminate many potential E&O issues before they arise. Employees that thrive work better together\, collaborate better and communicate better\, thus reducing the exposure for E&O loss. We will also discuss the ever-changing Personnel Management issues of remote workforces and how they contribute to your organizations culture and success.  1 Hr Lunch To Be or Not to Airbnb- Sharing Exposure and Insurance - 2 hrs - Stuart PowellThis course addresses aspects of the emerging sharing economy's use of personal autos and homes.  It provides a discussion of the nature of these exposures and how Personal Auto policies and Homeowners policies respond.  There is also a brief discussion of the impact these exposures can have on the Business Auto policies.This course addresses aspects of the emerging sharing economy's use of personal autos and homes.  It provides a discussion of the nature of these exposures and how Personal Auto policies and Homeowners policies respond.  There is also a brief discussion of the impact these exposures can have on the Business Auto policies.
X-ALT-DESC;FMTTYPE=text/html:<!DOCTYPE html><html><head><title></title></head><body aria-disabled="false"><p style='box-sizing: border-box\; margin: 0px 0px 10px\; color: rgb(51\, 51\, 51)\; font-family: "Helvetica Neue"\, Helvetica\, Arial\, sans-serif\; font-size: 14px\; font-style: normal\; font-variant-ligatures: normal\; font-variant-caps: normal\; font-weight: 400\; letter-spacing: normal\; orphans: 2\; text-align: center\; text-indent: 0px\; text-transform: none\; white-space: normal\; widows: 2\; word-spacing: 0px\; -webkit-text-stroke-width: 0px\; background-color: rgb(255\, 255\, 255)\; text-decoration-thickness: initial\; text-decoration-style: initial\; text-decoration-color: initial\;'><strong fr-original-style="" style="font-weight: 700\;"><span style="font-size: 24px\; color: rgb(44\, 130\, 201)\;">Big I Oklahoma has partnered up with ABEN to offer up to 5 hours of FREE CE for BIGiOK Members!&nbsp\;</span></strong></p><p style='box-sizing: border-box\; margin: 0px 0px 10px\; color: rgb(51\, 51\, 51)\; font-family: "Helvetica Neue"\, Helvetica\, Arial\, sans-serif\; font-size: 14px\; font-style: normal\; font-variant-ligatures: normal\; font-variant-caps: normal\; font-weight: 400\; letter-spacing: normal\; orphans: 2\; text-align: center\; text-indent: 0px\; text-transform: none\; white-space: normal\; widows: 2\; word-spacing: 0px\; -webkit-text-stroke-width: 0px\; background-color: rgb(255\, 255\, 255)\; text-decoration-thickness: initial\; text-decoration-style: initial\; text-decoration-color: initial\;'><span style="font-size: 24px\;"><strong fr-original-style="" style="font-weight: 700\;">(<strong fr-original-style="" style="font-weight: 700\;"><span style="font-size: 24px\;">Please Note:&nbsp\;</span></strong>This is only CE Approved in Oklahoma)</strong></span></p><p style='box-sizing: border-box\; margin: 0px 0px 10px\; color: rgb(51\, 51\, 51)\; font-family: "Helvetica Neue"\, Helvetica\, Arial\, sans-serif\; font-size: 14px\; font-style: normal\; font-variant-ligatures: normal\; font-variant-caps: normal\; font-weight: 400\; letter-spacing: normal\; orphans: 2\; text-align: center\; text-indent: 0px\; text-transform: none\; white-space: normal\; widows: 2\; word-spacing: 0px\; -webkit-text-stroke-width: 0px\; background-color: rgb(255\, 255\, 255)\; text-decoration-thickness: initial\; text-decoration-style: initial\; text-decoration-color: initial\;'><span style="font-size: 24px\;"><strong fr-original-style="" style="font-weight: 700\;">Non-Members can attend for $150.&nbsp\;</strong></span></p><p style='box-sizing: border-box\; margin: 0px 0px 10px\; color: rgb(51\, 51\, 51)\; font-family: "Helvetica Neue"\, Helvetica\, Arial\, sans-serif\; font-size: 14px\; font-style: normal\; font-variant-ligatures: normal\; font-variant-caps: normal\; font-weight: 400\; letter-spacing: normal\; orphans: 2\; text-align: start\; text-indent: 0px\; text-transform: none\; white-space: normal\; widows: 2\; word-spacing: 0px\; -webkit-text-stroke-width: 0px\; background-color: rgb(255\, 255\, 255)\; text-decoration-thickness: initial\; text-decoration-style: initial\; text-decoration-color: initial\;'>The theme of this year&#39\;s event is - <span style="box-sizing: border-box\; font-size: 18px\;"><em style="box-sizing: border-box\;"><strong fr-original-style="box-sizing: border-box\; font-weight: bold\;" style="box-sizing: border-box\; font-weight: bold\;">Navigating the New and Non-Traditional Workplace.</strong></em></span>&nbsp\; There are so many facets to that broad subject! &nbsp\;With what all agents/and agencies have been through in the last few years\, we all need to pivot to learn new ways to communicate and navigate. &nbsp\;Here are a few touch points from the classes that are part of National ABEN Day - 2022:</p><p style='box-sizing: border-box\; margin: 0px 0px 10px\; color: rgb(51\, 51\, 51)\; font-family: "Helvetica Neue"\, Helvetica\, Arial\, sans-serif\; font-size: 14px\; font-style: normal\; font-variant-ligatures: normal\; font-variant-caps: normal\; font-weight: 400\; letter-spacing: normal\; orphans: 2\; text-align: start\; text-indent: 0px\; text-transform: none\; white-space: normal\; widows: 2\; word-spacing: 0px\; -webkit-text-stroke-width: 0px\; background-color: rgb(255\, 255\, 255)\; text-decoration-thickness: initial\; text-decoration-style: initial\; text-decoration-color: initial\;'><u style="box-sizing: border-box\;"><em style="box-sizing: border-box\;"><strong fr-original-style="box-sizing: border-box\; font-weight: bold\;" style="box-sizing: border-box\; font-weight: bold\;">Gigs and Side Hustles &nbsp\;- The Insurance Issues - 2 Hrs - Rick Pitts</strong></em></u></p><p dir="ltr" style='box-sizing: border-box\; margin: 0px 0px 10px\; color: rgb(51\, 51\, 51)\; font-family: "Helvetica Neue"\, Helvetica\, Arial\, sans-serif\; font-size: 14px\; font-style: normal\; font-variant-ligatures: normal\; font-variant-caps: normal\; font-weight: 400\; letter-spacing: normal\; orphans: 2\; text-align: start\; text-indent: 0px\; text-transform: none\; white-space: normal\; widows: 2\; word-spacing: 0px\; -webkit-text-stroke-width: 0px\; background-color: rgb(255\, 255\, 255)\; text-decoration-thickness: initial\; text-decoration-style: initial\; text-decoration-color: initial\;'>This seminar provides a fast-paced look at the personal and commercial lines insurance issues that have been created in the gig economy and its new players\; Uber\, Touro\, Hertz\, Avis\, Airbonb and VRBO. &nbsp\;The insurance ramifications are discussed. &nbsp\;Next\, there will be an examination of the particulars with regard to both the personal auto policy form and homeowners form.</p><p dir="ltr" style='box-sizing: border-box\; margin: 0px 0px 10px\; color: rgb(51\, 51\, 51)\; font-family: "Helvetica Neue"\, Helvetica\, Arial\, sans-serif\; font-size: 14px\; font-style: normal\; font-variant-ligatures: normal\; font-variant-caps: normal\; font-weight: 400\; letter-spacing: normal\; orphans: 2\; text-align: start\; text-indent: 0px\; text-transform: none\; white-space: normal\; widows: 2\; word-spacing: 0px\; -webkit-text-stroke-width: 0px\; background-color: rgb(255\, 255\, 255)\; text-decoration-thickness: initial\; text-decoration-style: initial\; text-decoration-color: initial\;'>&nbsp\;Rick addresses the issues connected to the gig economy from the perspective of an employer in a more traditional business model. Simply put\, can gig workers be held to be employees\, despite the efforts of employers to treat them as temporary workers and therefore independent contractors? This section examines some case law and also some employment law developments that may influence the question not only from the perspective of the commercial liability policy\, but more particularly the workers compensation laws. Lastly\, a hypothetical question is discussed about whether a restaurant\, or an app such as Door Dash\, can or should be held liable when a driver has an accident while delivering food &nbsp\;The restaurant&#39\;s needs\, driver needs and underlying liability issues are discussed.</p><hr style="box-sizing: content-box\; height: 0px\; margin-top: 20px\; margin-bottom: 20px\; border-width: 1px 0px 0px\; border-right-style: initial\; border-bottom-style: initial\; border-left-style: initial\; border-right-color: initial\; border-bottom-color: initial\; border-left-color: initial\; border-image: initial\; border-top-style: solid\; border-top-color: rgb(238\, 238\, 238)\; color: rgb(51\, 51\, 51)\; font-family: &quot\;Helvetica Neue&quot\;\, Helvetica\, Arial\, sans-serif\; font-size: 14px\; font-style: normal\; font-variant-ligatures: normal\; font-variant-caps: normal\; font-weight: 400\; letter-spacing: normal\; orphans: 2\; text-align: start\; text-indent: 0px\; text-transform: none\; white-space: normal\; widows: 2\; word-spacing: 0px\; -webkit-text-stroke-width: 0px\; background-color: rgb(255\, 255\, 255)\; text-decoration-thickness: initial\; text-decoration-style: initial\; text-decoration-color: initial\; clear: both\; user-select: none\; break-after: page\;" fr-original-style="box-sizing: content-box\; height: 0px\; margin-top: 20px\; margin-bottom: 20px\; border-width: 1px 0px 0px\; border-right-style: initial\; border-bottom-style: initial\; border-left-style: initial\; border-right-color: initial\; border-bottom-color: initial\; border-left-color: initial\; border-image: initial\; border-top-style: solid\; border-top-color: rgb(238\, 238\, 238)\; color: rgb(51\, 51\, 51)\; font-family: &quot\;Helvetica Neue&quot\;\, Helvetica\, Arial\, sans-serif\; font-size: 14px\; font-style: normal\; font-variant-ligatures: normal\; font-variant-caps: normal\; font-weight: 400\; letter-spacing: normal\; orphans: 2\; text-align: start\; text-indent: 0px\; text-transform: none\; white-space: normal\; widows: 2\; word-spacing: 0px\; -webkit-text-stroke-width: 0px\; background-color: rgb(255\, 255\, 255)\; text-decoration-thickness: initial\; text-decoration-style: initial\; text-decoration-color: initial\;"><p dir="ltr" style='box-sizing: border-box\; margin: 0px 0px 10px\; color: rgb(51\, 51\, 51)\; font-family: "Helvetica Neue"\, Helvetica\, Arial\, sans-serif\; font-size: 14px\; font-style: normal\; font-variant-ligatures: normal\; font-variant-caps: normal\; font-weight: 400\; letter-spacing: normal\; orphans: 2\; text-align: start\; text-indent: 0px\; text-transform: none\; white-space: normal\; widows: 2\; word-spacing: 0px\; -webkit-text-stroke-width: 0px\; background-color: rgb(255\, 255\, 255)\; text-decoration-thickness: initial\; text-decoration-style: initial\; text-decoration-color: initial\;'><strong fr-original-style="box-sizing: border-box\; font-weight: bold\;" style="box-sizing: border-box\; font-weight: bold\;">15 min break</strong></p><p dir="ltr" style='box-sizing: border-box\; margin: 0px 0px 10px\; color: rgb(51\, 51\, 51)\; font-family: "Helvetica Neue"\, Helvetica\, Arial\, sans-serif\; font-size: 14px\; font-style: normal\; font-variant-ligatures: normal\; font-variant-caps: normal\; font-weight: 400\; letter-spacing: normal\; orphans: 2\; text-align: start\; text-indent: 0px\; text-transform: none\; white-space: normal\; widows: 2\; word-spacing: 0px\; -webkit-text-stroke-width: 0px\; background-color: rgb(255\, 255\, 255)\; text-decoration-thickness: initial\; text-decoration-style: initial\; text-decoration-color: initial\;'><u style="box-sizing: border-box\;"><em style="box-sizing: border-box\;"><strong fr-original-style="box-sizing: border-box\; font-weight: bold\;" style="box-sizing: border-box\; font-weight: bold\;">How to Thrive in a Ever Changing Work Environment - 1 hr - Terry Tadlock</strong></em></u></p><p dir="ltr" style='box-sizing: border-box\; margin: 0px 0px 10px\; color: rgb(51\, 51\, 51)\; font-family: "Helvetica Neue"\, Helvetica\, Arial\, sans-serif\; font-size: 14px\; font-style: normal\; font-variant-ligatures: normal\; font-variant-caps: normal\; font-weight: 400\; letter-spacing: normal\; orphans: 2\; text-align: start\; text-indent: 0px\; text-transform: none\; white-space: normal\; widows: 2\; word-spacing: 0px\; -webkit-text-stroke-width: 0px\; background-color: rgb(255\, 255\, 255)\; text-decoration-thickness: initial\; text-decoration-style: initial\; text-decoration-color: initial\;'>This seminar will address the positive effects that Organizational Culture can have on your agency. &nbsp\;While many E&amp\;O classes focus on mistakes employees can make that create potential problems\, this course will attempt to create an awareness that there are steps we can take as an organization in creating a positive agency culture\, that can eliminate many potential E&amp\;O issues before they arise. Employees that thrive work better together\, collaborate better and communicate better\, thus reducing the exposure for E&amp\;O loss. We will also discuss the ever-changing Personnel Management issues of remote workforces and how they contribute to your organizations culture and success. &nbsp\;</p><hr style="box-sizing: content-box\; height: 0px\; margin-top: 20px\; margin-bottom: 20px\; border-width: 1px 0px 0px\; border-right-style: initial\; border-bottom-style: initial\; border-left-style: initial\; border-right-color: initial\; border-bottom-color: initial\; border-left-color: initial\; border-image: initial\; border-top-style: solid\; border-top-color: rgb(238\, 238\, 238)\; color: rgb(51\, 51\, 51)\; font-family: &quot\;Helvetica Neue&quot\;\, Helvetica\, Arial\, sans-serif\; font-size: 14px\; font-style: normal\; font-variant-ligatures: normal\; font-variant-caps: normal\; font-weight: 400\; letter-spacing: normal\; orphans: 2\; text-align: start\; text-indent: 0px\; text-transform: none\; white-space: normal\; widows: 2\; word-spacing: 0px\; -webkit-text-stroke-width: 0px\; background-color: rgb(255\, 255\, 255)\; text-decoration-thickness: initial\; text-decoration-style: initial\; text-decoration-color: initial\; clear: both\; user-select: none\; break-after: page\;" fr-original-style="box-sizing: content-box\; height: 0px\; margin-top: 20px\; margin-bottom: 20px\; border-width: 1px 0px 0px\; border-right-style: initial\; border-bottom-style: initial\; border-left-style: initial\; border-right-color: initial\; border-bottom-color: initial\; border-left-color: initial\; border-image: initial\; border-top-style: solid\; border-top-color: rgb(238\, 238\, 238)\; color: rgb(51\, 51\, 51)\; font-family: &quot\;Helvetica Neue&quot\;\, Helvetica\, Arial\, sans-serif\; font-size: 14px\; font-style: normal\; font-variant-ligatures: normal\; font-variant-caps: normal\; font-weight: 400\; letter-spacing: normal\; orphans: 2\; text-align: start\; text-indent: 0px\; text-transform: none\; white-space: normal\; widows: 2\; word-spacing: 0px\; -webkit-text-stroke-width: 0px\; background-color: rgb(255\, 255\, 255)\; text-decoration-thickness: initial\; text-decoration-style: initial\; text-decoration-color: initial\;"><p dir="ltr" style='box-sizing: border-box\; margin: 0px 0px 10px\; color: rgb(51\, 51\, 51)\; font-family: "Helvetica Neue"\, Helvetica\, Arial\, sans-serif\; font-size: 14px\; font-style: normal\; font-variant-ligatures: normal\; font-variant-caps: normal\; font-weight: 400\; letter-spacing: normal\; orphans: 2\; text-align: start\; text-indent: 0px\; text-transform: none\; white-space: normal\; widows: 2\; word-spacing: 0px\; -webkit-text-stroke-width: 0px\; background-color: rgb(255\, 255\, 255)\; text-decoration-thickness: initial\; text-decoration-style: initial\; text-decoration-color: initial\;'><strong fr-original-style="box-sizing: border-box\; font-weight: bold\;" style="box-sizing: border-box\; font-weight: bold\;">1 Hr Lunch&nbsp\;</strong></p><p dir="ltr" style='box-sizing: border-box\; margin: 0px 0px 10px\; color: rgb(51\, 51\, 51)\; font-family: "Helvetica Neue"\, Helvetica\, Arial\, sans-serif\; font-size: 14px\; font-style: normal\; font-variant-ligatures: normal\; font-variant-caps: normal\; font-weight: 400\; letter-spacing: normal\; orphans: 2\; text-align: start\; text-indent: 0px\; text-transform: none\; white-space: normal\; widows: 2\; word-spacing: 0px\; -webkit-text-stroke-width: 0px\; background-color: rgb(255\, 255\, 255)\; text-decoration-thickness: initial\; text-decoration-style: initial\; text-decoration-color: initial\;'><strong fr-original-style="box-sizing: border-box\; font-weight: bold\;" style="box-sizing: border-box\; font-weight: bold\;"><em style="box-sizing: border-box\;"><u style="box-sizing: border-box\;">To Be or Not to Airbnb- Sharing Exposure and Insurance - 2&nbsp\;hrs - Stuart Powell</u></em></strong></p><p style='box-sizing: border-box\; margin: 0px 0px 11px\; color: rgb(51\, 51\, 51)\; font-family: "Helvetica Neue"\, Helvetica\, Arial\, sans-serif\; font-size: 14px\; font-style: normal\; font-variant-ligatures: normal\; font-variant-caps: normal\; font-weight: 400\; letter-spacing: normal\; orphans: 2\; text-align: start\; text-indent: 0px\; text-transform: none\; white-space: normal\; widows: 2\; word-spacing: 0px\; -webkit-text-stroke-width: 0px\; background-color: rgb(255\, 255\, 255)\; text-decoration-thickness: initial\; text-decoration-style: initial\; text-decoration-color: initial\;'><span style="box-sizing: border-box\; font-size: 11pt\;"><span style="box-sizing: border-box\; line-height: 15.6933px\;"><span style="box-sizing: border-box\; font-family: Calibri\, sans-serif\;"><span style="box-sizing: border-box\; color: black\;">This course addresses aspects of the emerging sharing economy&rsquo\;s use of personal autos and homes. &nbsp\;It provides a discussion of the nature of these exposures and how Personal Auto policies and Homeowners policies respond. &nbsp\;There is also a brief discussion of the impact these exposures can have on the Business Auto policies.This course addresses aspects of the emerging sharing economy&rsquo\;s use of personal autos and homes. &nbsp\;It provides a discussion of the nature of these exposures and how Personal Auto policies and Homeowners policies respond. &nbsp\;There is also a brief discussion of the impact these exposures can have on the Business Auto policies.</span></span></span></span></p></body></html>
LOCATION:
UID:e.846.702811
SEQUENCE:3
DTSTAMP:20260426T031810Z
URL:https://iiaok.growthzoneapp.com/bigiokcalendar/Details/national-aben-day-753348?sourceTypeId=Hub
END:VEVENT
END:VCALENDAR
